BEGIN:VCALENDAR
VERSION:2.0
PRODID:-//Lucky Reader Books LLC - ECPv6.4.0.1//NONSGML v1.0//EN
CALSCALE:GREGORIAN
METHOD:PUBLISH
X-WR-CALNAME:Lucky Reader Books LLC
X-ORIGINAL-URL:https://www.murrayrichter.com
X-WR-CALDESC:Events for Lucky Reader Books LLC
REFRESH-INTERVAL;VALUE=DURATION:PT1H
X-Robots-Tag:noindex
X-PUBLISHED-TTL:PT1H
BEGIN:VTIMEZONE
TZID:UTC
BEGIN:STANDARD
TZOFFSETFROM:+0000
TZOFFSETTO:+0000
TZNAME:UTC
DTSTART:20210101T000000
END:STANDARD
END:VTIMEZONE
BEGIN:VEVENT
DTSTART;TZID=UTC:20210710T090000
DTEND;TZID=UTC:20210710T123000
DTSTAMP:20260425T164737
CREATED:20210710T042940Z
LAST-MODIFIED:20210710T044035Z
UID:1601-1625907600-1625920200@www.murrayrichter.com
SUMMARY:Fishing For Luck Dallas Launch Party - Gussie Field Watterworth Park Pavilion
DESCRIPTION:Come celebrate the launch of the newest book “Fishing For Luck” at Gussie Field Watterworth Park Pavilion!  We will have fishing games\, cast net lessons\, readings of excerpts from the new book\, prizes and a ton of other super fun activities.  There will also be a few books available to purchase\, but if you want to ensure your copy can get signed please purchase the book ahead of time at www.murrayrichter.com or at Amazon.com.  Hope to see you there!\nShare this:\n				Share on Facebook (Opens in new window)\n				Facebook\n			\n				Share on X (Opens in new window)\n				X\n			\n				Share on Tumblr (Opens in new window)\n				Tumblr\n			\n				Share on Pinterest (Opens in new window)\n				Pinterest\n			\n				Share on LinkedIn (Opens in new window)\n				LinkedIn
URL:https://www.murrayrichter.com/event/fishing-for-luck-dallas-launch-party-gussie-field-watterworth-park-pavilion/
LOCATION:Gussie Field Watterworth Park Pavilion\, 2610 Valley View Lane\, Dallas\, TX\, 75234\, United States
END:VEVENT
BEGIN:VEVENT
DTSTART;TZID=UTC:20210710T150000
DTEND;TZID=UTC:20210710T180000
DTSTAMP:20260425T164737
CREATED:20210710T043403Z
LAST-MODIFIED:20210710T044008Z
UID:1604-1625929200-1625940000@www.murrayrichter.com
SUMMARY:Fishing For Luck Launch Party - Dallas: Oak Cliff Brewing Company
DESCRIPTION:Come celebrate the launch of the newest book “Fishing For Luck” at Oak Cliff Brewing Company!  We will have fishing games\, cast net lessons\, readings of excerpts from the new book\, prizes and a ton of other super fun activities.  There will be a few books available to purchase\, but if you want to ensure your copy can get signed please purchase the book ahead of time at www.murrayrichter.com or at Amazon.com.  As a token of gratitude for all the support throughout this process\, the first round for 21 and over attendees is on me.  Hope to see you there!\nShare this:\n				Share on Facebook (Opens in new window)\n				Facebook\n			\n				Share on X (Opens in new window)\n				X\n			\n				Share on Tumblr (Opens in new window)\n				Tumblr\n			\n				Share on Pinterest (Opens in new window)\n				Pinterest\n			\n				Share on LinkedIn (Opens in new window)\n				LinkedIn
URL:https://www.murrayrichter.com/event/fishing-for-luck-launch-party-dallas-oak-cliff-brewing-company/
LOCATION:Oak Cliff Brewing Company\, 1300 S Polk St # 222\, Dallas\, TX\, 75224\, United States
END:VEVENT
BEGIN:VEVENT
DTSTART;TZID=UTC:20210717T150000
DTEND;TZID=UTC:20210717T180000
DTSTAMP:20260425T164737
CREATED:20210710T043923Z
LAST-MODIFIED:20210710T043923Z
UID:1609-1626534000-1626544800@www.murrayrichter.com
SUMMARY:Fishing For Luck Launch Party - Coach Hurt's Crossroads
DESCRIPTION:Come celebrate the launch of the newest book “Fishing For Luck” at Coach Hurt’s Crossroads!  We will have fishing games\, cast net lessons\, readings of excerpts from the new book\, prizes and a ton of other super fun activities. We will also feature the musical talents of the one and only Clay Sellers.  There will be a few books available to purchase\, but if you want to ensure your copy can get signed please purchase the book ahead of time at www.murrayrichter.com or at Amazon.com.  As a token of gratitude for all the support throughout this process\, the first round for 21 and over attendees is on me.  Hope to see you there!\nShare this:\n				Share on Facebook (Opens in new window)\n				Facebook\n			\n				Share on X (Opens in new window)\n				X\n			\n				Share on Tumblr (Opens in new window)\n				Tumblr\n			\n				Share on Pinterest (Opens in new window)\n				Pinterest\n			\n				Share on LinkedIn (Opens in new window)\n				LinkedIn
URL:https://www.murrayrichter.com/event/fishing-for-luck-launch-party-coach-hurts-crossroads/
LOCATION:Coach Hurt’s Crossroads\, 1476 Ross Rd\, Elm Mott\, TX\, 76640\, United States
END:VEVENT
END:VCALENDAR